BEGIN:VCALENDAR
VERSION:2.0
PRODID:-//New Mexico Medical Society - ECPv6.15.20//NONSGML v1.0//EN
CALSCALE:GREGORIAN
METHOD:PUBLISH
X-ORIGINAL-URL:https://www.nmms.org
X-WR-CALDESC:Events for New Mexico Medical Society
REFRESH-INTERVAL;VALUE=DURATION:PT1H
X-Robots-Tag:noindex
X-PUBLISHED-TTL:PT1H
BEGIN:VTIMEZONE
TZID:America/Denver
BEGIN:DAYLIGHT
TZOFFSETFROM:-0700
TZOFFSETTO:-0600
TZNAME:MDT
DTSTART:20170312T090000
END:DAYLIGHT
BEGIN:STANDARD
TZOFFSETFROM:-0600
TZOFFSETTO:-0700
TZNAME:MST
DTSTART:20171105T080000
END:STANDARD
BEGIN:DAYLIGHT
TZOFFSETFROM:-0700
TZOFFSETTO:-0600
TZNAME:MDT
DTSTART:20180311T090000
END:DAYLIGHT
BEGIN:STANDARD
TZOFFSETFROM:-0600
TZOFFSETTO:-0700
TZNAME:MST
DTSTART:20181104T080000
END:STANDARD
BEGIN:DAYLIGHT
TZOFFSETFROM:-0700
TZOFFSETTO:-0600
TZNAME:MDT
DTSTART:20190310T090000
END:DAYLIGHT
BEGIN:STANDARD
TZOFFSETFROM:-0600
TZOFFSETTO:-0700
TZNAME:MST
DTSTART:20191103T080000
END:STANDARD
END:VTIMEZONE
BEGIN:VEVENT
DTSTART;TZID=America/Denver:20180914T083000
DTEND;TZID=America/Denver:20180915T173000
DTSTAMP:20260421T042346
CREATED:20180808T153717Z
LAST-MODIFIED:20180808T153900Z
UID:379-1536913800-1537032600@www.nmms.org
SUMMARY:NMMS Medical Convention 2018 – Building Bridges Within The Profession
DESCRIPTION:The New Mexico Medical Society Inaugural Convention is the first of many annual forums dedicated to advances in the science and economics of medicine and in the building of bridges within the medical profession and between specialties. Attendees are healthcare providers\, researchers and industry representatives. \nParticipating specialties include: The New Mexico Chapter of the American College of Physicians\, The New Mexico Chapter of the American College of Surgeons\, New Mexico Chapter of American Academy of Pediatrics\, New Mexico Allergy Society\, and the New Mexico Orthopaedic Association.
URL:https://www.nmms.org/events/nmms-medical-convention-2018/
LOCATION:Embassy Suites\, Albuquerque\, 1000 Woodward Pl NE\, Albuquerque\, 87102\, United States
CATEGORIES:2018 Events,NMMS Event
ORGANIZER;CN="NM Orthopedic Association%2C NM Chapter American College of Surgeons%2C NM Pediatric Society%2C NM Chapter American College of Physicians%2C NM Allergy Association":MAILTO:events@nmms.org
END:VEVENT
END:VCALENDAR